BEGIN:VCALENDAR
VERSION:2.0
PRODID:-//Twin Lakes Village Golf Course - ECPv6.15.20//NONSGML v1.0//EN
CALSCALE:GREGORIAN
METHOD:PUBLISH
X-ORIGINAL-URL:https://golftwinlakes.com
X-WR-CALDESC:Events for Twin Lakes Village Golf Course
REFRESH-INTERVAL;VALUE=DURATION:PT1H
X-Robots-Tag:noindex
X-PUBLISHED-TTL:PT1H
BEGIN:VTIMEZONE
TZID:America/Los_Angeles
BEGIN:DAYLIGHT
TZOFFSETFROM:-0800
TZOFFSETTO:-0700
TZNAME:PDT
DTSTART:20250309T100000
END:DAYLIGHT
BEGIN:STANDARD
TZOFFSETFROM:-0700
TZOFFSETTO:-0800
TZNAME:PST
DTSTART:20251102T090000
END:STANDARD
BEGIN:DAYLIGHT
TZOFFSETFROM:-0800
TZOFFSETTO:-0700
TZNAME:PDT
DTSTART:20260308T100000
END:DAYLIGHT
BEGIN:STANDARD
TZOFFSETFROM:-0700
TZOFFSETTO:-0800
TZNAME:PST
DTSTART:20261101T090000
END:STANDARD
BEGIN:DAYLIGHT
TZOFFSETFROM:-0800
TZOFFSETTO:-0700
TZNAME:PDT
DTSTART:20270314T100000
END:DAYLIGHT
BEGIN:STANDARD
TZOFFSETFROM:-0700
TZOFFSETTO:-0800
TZNAME:PST
DTSTART:20271107T090000
END:STANDARD
END:VTIMEZONE
BEGIN:VEVENT
DTSTART;TZID=America/Los_Angeles:20260502T100000
DTEND;TZID=America/Los_Angeles:20260502T100000
DTSTAMP:20260421T091334
CREATED:20260414T194445Z
LAST-MODIFIED:20260414T194445Z
UID:44280-1777716000-1777716000@golftwinlakes.com
SUMMARY:Men's Club - 2-Man Scramble
DESCRIPTION:10 am Shotgun Start
URL:https://golftwinlakes.com/event/mens-club-2-man-scramble/
CATEGORIES:Golf,Men's Club,Tournaments
END:VEVENT
BEGIN:VEVENT
DTSTART;TZID=America/Los_Angeles:20260504T100000
DTEND;TZID=America/Los_Angeles:20260504T100000
DTSTAMP:20260421T091334
CREATED:20260414T194608Z
LAST-MODIFIED:20260414T194608Z
UID:44283-1777888800-1777888800@golftwinlakes.com
SUMMARY:Timberlake High School Districts
DESCRIPTION:10 am Shotgun Start
URL:https://golftwinlakes.com/event/timberlake-high-school-districts/
CATEGORIES:Golf,Tournaments
END:VEVENT
BEGIN:VEVENT
DTSTART;TZID=America/Los_Angeles:20260515T100000
DTEND;TZID=America/Los_Angeles:20260515T100000
DTSTAMP:20260421T091334
CREATED:20260414T195744Z
LAST-MODIFIED:20260414T195809Z
UID:44323-1778839200-1778839200@golftwinlakes.com
SUMMARY:Rathdrum Chamber of Commerce Golf Tournament
DESCRIPTION:Outside event.  Shotgun Start 10 am
URL:https://golftwinlakes.com/event/rathdrum-chamber-of-commerce-golf-tournamet/
CATEGORIES:Golf,Tournaments
END:VEVENT
BEGIN:VEVENT
DTSTART;TZID=America/Los_Angeles:20260516T090000
DTEND;TZID=America/Los_Angeles:20260516T090000
DTSTAMP:20260421T091334
CREATED:20260414T200032Z
LAST-MODIFIED:20260414T200032Z
UID:44332-1778922000-1778922000@golftwinlakes.com
SUMMARY:Men's Club - Opening Day
DESCRIPTION:Shotgun start @ 9 am
URL:https://golftwinlakes.com/event/mens-club-opening-day-2/
CATEGORIES:Golf,Men's Club,Tournaments
END:VEVENT
BEGIN:VEVENT
DTSTART;TZID=America/Los_Angeles:20260530T090000
DTEND;TZID=America/Los_Angeles:20260530T090000
DTSTAMP:20260421T091334
CREATED:20260414T200151Z
LAST-MODIFIED:20260414T200151Z
UID:44335-1780131600-1780131600@golftwinlakes.com
SUMMARY:Mayor's Cup
DESCRIPTION:Outside Event.  9 am Shotgun start
URL:https://golftwinlakes.com/event/mayors-cup/
CATEGORIES:Golf,Tournaments
END:VEVENT
END:VCALENDAR