BEGIN:VCALENDAR
VERSION:2.0
PRODID:-//Twin Lakes Village Golf Course - ECPv6.15.20//NONSGML v1.0//EN
CALSCALE:GREGORIAN
METHOD:PUBLISH
X-WR-CALNAME:Twin Lakes Village Golf Course
X-ORIGINAL-URL:https://golftwinlakes.com
X-WR-CALDESC:Events for Twin Lakes Village Golf Course
REFRESH-INTERVAL;VALUE=DURATION:PT1H
X-Robots-Tag:noindex
X-PUBLISHED-TTL:PT1H
BEGIN:VTIMEZONE
TZID:America/Los_Angeles
BEGIN:DAYLIGHT
TZOFFSETFROM:-0800
TZOFFSETTO:-0700
TZNAME:PDT
DTSTART:20240310T100000
END:DAYLIGHT
BEGIN:STANDARD
TZOFFSETFROM:-0700
TZOFFSETTO:-0800
TZNAME:PST
DTSTART:20241103T090000
END:STANDARD
BEGIN:DAYLIGHT
TZOFFSETFROM:-0800
TZOFFSETTO:-0700
TZNAME:PDT
DTSTART:20250309T100000
END:DAYLIGHT
BEGIN:STANDARD
TZOFFSETFROM:-0700
TZOFFSETTO:-0800
TZNAME:PST
DTSTART:20251102T090000
END:STANDARD
BEGIN:DAYLIGHT
TZOFFSETFROM:-0800
TZOFFSETTO:-0700
TZNAME:PDT
DTSTART:20260308T100000
END:DAYLIGHT
BEGIN:STANDARD
TZOFFSETFROM:-0700
TZOFFSETTO:-0800
TZNAME:PST
DTSTART:20261101T090000
END:STANDARD
END:VTIMEZONE
BEGIN:VEVENT
DTSTART;TZID=America/Los_Angeles:20250605T090000
DTEND;TZID=America/Los_Angeles:20250605T090000
DTSTAMP:20260421T224302
CREATED:20250403T223834Z
LAST-MODIFIED:20250403T223834Z
UID:43195-1749114000-1749114000@golftwinlakes.com
SUMMARY:9 Hole Women - 9 am
DESCRIPTION:Shotgun start @ 9 am
URL:https://golftwinlakes.com/event/9-hole-women-9-am/2025-06-05/
CATEGORIES:Golf,Women's 9
END:VEVENT
BEGIN:VEVENT
DTSTART;TZID=America/Los_Angeles:20250612T073000
DTEND;TZID=America/Los_Angeles:20250612T073000
DTSTAMP:20260421T224303
CREATED:20250403T223927Z
LAST-MODIFIED:20250403T223927Z
UID:43199-1749713400-1749713400@golftwinlakes.com
SUMMARY:9 Hole Women - 7:30 am
DESCRIPTION:Shotgun start @ 7:30 am
URL:https://golftwinlakes.com/event/9-hole-women-730-am-2/
CATEGORIES:Golf,Women's 9
END:VEVENT
END:VCALENDAR