BEGIN:VCALENDAR
VERSION:2.0
PRODID:-//Twin Lakes Village Golf Course - ECPv6.15.20//NONSGML v1.0//EN
CALSCALE:GREGORIAN
METHOD:PUBLISH
X-ORIGINAL-URL:https://golftwinlakes.com
X-WR-CALDESC:Events for Twin Lakes Village Golf Course
REFRESH-INTERVAL;VALUE=DURATION:PT1H
X-Robots-Tag:noindex
X-PUBLISHED-TTL:PT1H
BEGIN:VTIMEZONE
TZID:America/Los_Angeles
BEGIN:DAYLIGHT
TZOFFSETFROM:-0800
TZOFFSETTO:-0700
TZNAME:PDT
DTSTART:20250309T100000
END:DAYLIGHT
BEGIN:STANDARD
TZOFFSETFROM:-0700
TZOFFSETTO:-0800
TZNAME:PST
DTSTART:20251102T090000
END:STANDARD
BEGIN:DAYLIGHT
TZOFFSETFROM:-0800
TZOFFSETTO:-0700
TZNAME:PDT
DTSTART:20260308T100000
END:DAYLIGHT
BEGIN:STANDARD
TZOFFSETFROM:-0700
TZOFFSETTO:-0800
TZNAME:PST
DTSTART:20261101T090000
END:STANDARD
BEGIN:DAYLIGHT
TZOFFSETFROM:-0800
TZOFFSETTO:-0700
TZNAME:PDT
DTSTART:20270314T100000
END:DAYLIGHT
BEGIN:STANDARD
TZOFFSETFROM:-0700
TZOFFSETTO:-0800
TZNAME:PST
DTSTART:20271107T090000
END:STANDARD
END:VTIMEZONE
BEGIN:VEVENT
DTSTART;TZID=America/Los_Angeles:20260501T090000
DTEND;TZID=America/Los_Angeles:20260501T090000
DTSTAMP:20260421T060304
CREATED:20260414T194121Z
LAST-MODIFIED:20260414T194121Z
UID:44255-1777626000-1777626000@golftwinlakes.com
SUMMARY:Boy's Club - 9 am
DESCRIPTION:Tee Times starting @ 9 am
URL:https://golftwinlakes.com/event/boys-club-9-am-5/2026-05-01/
CATEGORIES:Boys Club,Golf
END:VEVENT
BEGIN:VEVENT
DTSTART;TZID=America/Los_Angeles:20260505T083000
DTEND;TZID=America/Los_Angeles:20260505T083000
DTSTAMP:20260421T060304
CREATED:20260414T194733Z
LAST-MODIFIED:20260414T194733Z
UID:44286-1777969800-1777969800@golftwinlakes.com
SUMMARY:Boy's Club - 8:30
DESCRIPTION:Tee Times starting @ 830 am
URL:https://golftwinlakes.com/event/boys-club-830-2/2026-05-05/
CATEGORIES:Boys Club,Golf
END:VEVENT
BEGIN:VEVENT
DTSTART;TZID=America/Los_Angeles:20260506T090000
DTEND;TZID=America/Los_Angeles:20260506T090000
DTSTAMP:20260421T060304
CREATED:20260414T194121Z
LAST-MODIFIED:20260414T194121Z
UID:44256-1778058000-1778058000@golftwinlakes.com
SUMMARY:Boy's Club - 9 am
DESCRIPTION:Tee Times starting @ 9 am
URL:https://golftwinlakes.com/event/boys-club-9-am-5/2026-05-06/
CATEGORIES:Boys Club,Golf
END:VEVENT
BEGIN:VEVENT
DTSTART;TZID=America/Los_Angeles:20260507T100000
DTEND;TZID=America/Los_Angeles:20260507T100000
DTSTAMP:20260421T060304
CREATED:20260414T195514Z
LAST-MODIFIED:20260414T195514Z
UID:44312-1778148000-1778148000@golftwinlakes.com
SUMMARY:Boy's Club - 10 am
DESCRIPTION:Tee Times starting @ 10 am
URL:https://golftwinlakes.com/event/boys-club-10-am-6/2026-05-07/
CATEGORIES:Boys Club,Golf
END:VEVENT
BEGIN:VEVENT
DTSTART;TZID=America/Los_Angeles:20260508T090000
DTEND;TZID=America/Los_Angeles:20260508T090000
DTSTAMP:20260421T060304
CREATED:20260414T194121Z
LAST-MODIFIED:20260414T194121Z
UID:44257-1778230800-1778230800@golftwinlakes.com
SUMMARY:Boy's Club - 9 am
DESCRIPTION:Tee Times starting @ 9 am
URL:https://golftwinlakes.com/event/boys-club-9-am-5/2026-05-08/
CATEGORIES:Boys Club,Golf
END:VEVENT
BEGIN:VEVENT
DTSTART;TZID=America/Los_Angeles:20260511T090000
DTEND;TZID=America/Los_Angeles:20260511T090000
DTSTAMP:20260421T060304
CREATED:20260414T194121Z
LAST-MODIFIED:20260414T194121Z
UID:44258-1778490000-1778490000@golftwinlakes.com
SUMMARY:Boy's Club - 9 am
DESCRIPTION:Tee Times starting @ 9 am
URL:https://golftwinlakes.com/event/boys-club-9-am-5/2026-05-11/
CATEGORIES:Boys Club,Golf
END:VEVENT
BEGIN:VEVENT
DTSTART;TZID=America/Los_Angeles:20260512T083000
DTEND;TZID=America/Los_Angeles:20260512T083000
DTSTAMP:20260421T060304
CREATED:20260414T194733Z
LAST-MODIFIED:20260414T194733Z
UID:44287-1778574600-1778574600@golftwinlakes.com
SUMMARY:Boy's Club - 8:30
DESCRIPTION:Tee Times starting @ 830 am
URL:https://golftwinlakes.com/event/boys-club-830-2/2026-05-12/
CATEGORIES:Boys Club,Golf
END:VEVENT
BEGIN:VEVENT
DTSTART;TZID=America/Los_Angeles:20260513T090000
DTEND;TZID=America/Los_Angeles:20260513T090000
DTSTAMP:20260421T060304
CREATED:20260414T194121Z
LAST-MODIFIED:20260414T194121Z
UID:44259-1778662800-1778662800@golftwinlakes.com
SUMMARY:Boy's Club - 9 am
DESCRIPTION:Tee Times starting @ 9 am
URL:https://golftwinlakes.com/event/boys-club-9-am-5/2026-05-13/
CATEGORIES:Boys Club,Golf
END:VEVENT
BEGIN:VEVENT
DTSTART;TZID=America/Los_Angeles:20260514T100000
DTEND;TZID=America/Los_Angeles:20260514T100000
DTSTAMP:20260421T060304
CREATED:20260414T195514Z
LAST-MODIFIED:20260414T195514Z
UID:44313-1778752800-1778752800@golftwinlakes.com
SUMMARY:Boy's Club - 10 am
DESCRIPTION:Tee Times starting @ 10 am
URL:https://golftwinlakes.com/event/boys-club-10-am-6/2026-05-14/
CATEGORIES:Boys Club,Golf
END:VEVENT
BEGIN:VEVENT
DTSTART;TZID=America/Los_Angeles:20260518T090000
DTEND;TZID=America/Los_Angeles:20260518T090000
DTSTAMP:20260421T060304
CREATED:20260414T194121Z
LAST-MODIFIED:20260414T194121Z
UID:44260-1779094800-1779094800@golftwinlakes.com
SUMMARY:Boy's Club - 9 am
DESCRIPTION:Tee Times starting @ 9 am
URL:https://golftwinlakes.com/event/boys-club-9-am-5/2026-05-18/
CATEGORIES:Boys Club,Golf
END:VEVENT
BEGIN:VEVENT
DTSTART;TZID=America/Los_Angeles:20260519T083000
DTEND;TZID=America/Los_Angeles:20260519T083000
DTSTAMP:20260421T060304
CREATED:20260414T194733Z
LAST-MODIFIED:20260414T194733Z
UID:44288-1779179400-1779179400@golftwinlakes.com
SUMMARY:Boy's Club - 8:30
DESCRIPTION:Tee Times starting @ 830 am
URL:https://golftwinlakes.com/event/boys-club-830-2/2026-05-19/
CATEGORIES:Boys Club,Golf
END:VEVENT
BEGIN:VEVENT
DTSTART;TZID=America/Los_Angeles:20260520T090000
DTEND;TZID=America/Los_Angeles:20260520T090000
DTSTAMP:20260421T060304
CREATED:20260414T194121Z
LAST-MODIFIED:20260414T194121Z
UID:44261-1779267600-1779267600@golftwinlakes.com
SUMMARY:Boy's Club - 9 am
DESCRIPTION:Tee Times starting @ 9 am
URL:https://golftwinlakes.com/event/boys-club-9-am-5/2026-05-20/
CATEGORIES:Boys Club,Golf
END:VEVENT
BEGIN:VEVENT
DTSTART;TZID=America/Los_Angeles:20260521T100000
DTEND;TZID=America/Los_Angeles:20260521T100000
DTSTAMP:20260421T060304
CREATED:20260414T195514Z
LAST-MODIFIED:20260414T195514Z
UID:44314-1779357600-1779357600@golftwinlakes.com
SUMMARY:Boy's Club - 10 am
DESCRIPTION:Tee Times starting @ 10 am
URL:https://golftwinlakes.com/event/boys-club-10-am-6/2026-05-21/
CATEGORIES:Boys Club,Golf
END:VEVENT
BEGIN:VEVENT
DTSTART;TZID=America/Los_Angeles:20260522T090000
DTEND;TZID=America/Los_Angeles:20260522T090000
DTSTAMP:20260421T060304
CREATED:20260414T194121Z
LAST-MODIFIED:20260414T194121Z
UID:44262-1779440400-1779440400@golftwinlakes.com
SUMMARY:Boy's Club - 9 am
DESCRIPTION:Tee Times starting @ 9 am
URL:https://golftwinlakes.com/event/boys-club-9-am-5/2026-05-22/
CATEGORIES:Boys Club,Golf
END:VEVENT
BEGIN:VEVENT
DTSTART;TZID=America/Los_Angeles:20260526T083000
DTEND;TZID=America/Los_Angeles:20260526T083000
DTSTAMP:20260421T060304
CREATED:20260414T194733Z
LAST-MODIFIED:20260414T194733Z
UID:44289-1779784200-1779784200@golftwinlakes.com
SUMMARY:Boy's Club - 8:30
DESCRIPTION:Tee Times starting @ 830 am
URL:https://golftwinlakes.com/event/boys-club-830-2/2026-05-26/
CATEGORIES:Boys Club,Golf
END:VEVENT
BEGIN:VEVENT
DTSTART;TZID=America/Los_Angeles:20260527T090000
DTEND;TZID=America/Los_Angeles:20260527T090000
DTSTAMP:20260421T060304
CREATED:20260414T194121Z
LAST-MODIFIED:20260414T194121Z
UID:44263-1779872400-1779872400@golftwinlakes.com
SUMMARY:Boy's Club - 9 am
DESCRIPTION:Tee Times starting @ 9 am
URL:https://golftwinlakes.com/event/boys-club-9-am-5/2026-05-27/
CATEGORIES:Boys Club,Golf
END:VEVENT
BEGIN:VEVENT
DTSTART;TZID=America/Los_Angeles:20260528T100000
DTEND;TZID=America/Los_Angeles:20260528T100000
DTSTAMP:20260421T060304
CREATED:20260414T195514Z
LAST-MODIFIED:20260414T195514Z
UID:44315-1779962400-1779962400@golftwinlakes.com
SUMMARY:Boy's Club - 10 am
DESCRIPTION:Tee Times starting @ 10 am
URL:https://golftwinlakes.com/event/boys-club-10-am-6/2026-05-28/
CATEGORIES:Boys Club,Golf
END:VEVENT
BEGIN:VEVENT
DTSTART;TZID=America/Los_Angeles:20260529T090000
DTEND;TZID=America/Los_Angeles:20260529T090000
DTSTAMP:20260421T060304
CREATED:20260414T194121Z
LAST-MODIFIED:20260414T194121Z
UID:44264-1780045200-1780045200@golftwinlakes.com
SUMMARY:Boy's Club - 9 am
DESCRIPTION:Tee Times starting @ 9 am
URL:https://golftwinlakes.com/event/boys-club-9-am-5/2026-05-29/
CATEGORIES:Boys Club,Golf
END:VEVENT
END:VCALENDAR