BEGIN:VCALENDAR
VERSION:2.0
PRODID:-//Twin Lakes Village Golf Course - ECPv6.15.20//NONSGML v1.0//EN
CALSCALE:GREGORIAN
METHOD:PUBLISH
X-WR-CALNAME:Twin Lakes Village Golf Course
X-ORIGINAL-URL:https://golftwinlakes.com
X-WR-CALDESC:Events for Twin Lakes Village Golf Course
REFRESH-INTERVAL;VALUE=DURATION:PT1H
X-Robots-Tag:noindex
X-PUBLISHED-TTL:PT1H
BEGIN:VTIMEZONE
TZID:America/Los_Angeles
BEGIN:DAYLIGHT
TZOFFSETFROM:-0800
TZOFFSETTO:-0700
TZNAME:PDT
DTSTART:20250309T100000
END:DAYLIGHT
BEGIN:STANDARD
TZOFFSETFROM:-0700
TZOFFSETTO:-0800
TZNAME:PST
DTSTART:20251102T090000
END:STANDARD
BEGIN:DAYLIGHT
TZOFFSETFROM:-0800
TZOFFSETTO:-0700
TZNAME:PDT
DTSTART:20260308T100000
END:DAYLIGHT
BEGIN:STANDARD
TZOFFSETFROM:-0700
TZOFFSETTO:-0800
TZNAME:PST
DTSTART:20261101T090000
END:STANDARD
BEGIN:DAYLIGHT
TZOFFSETFROM:-0800
TZOFFSETTO:-0700
TZNAME:PDT
DTSTART:20270314T100000
END:DAYLIGHT
BEGIN:STANDARD
TZOFFSETFROM:-0700
TZOFFSETTO:-0800
TZNAME:PST
DTSTART:20271107T090000
END:STANDARD
END:VTIMEZONE
BEGIN:VEVENT
DTSTART;TZID=America/Los_Angeles:20260503T150000
DTEND;TZID=America/Los_Angeles:20260503T150000
DTSTAMP:20260421T103244
CREATED:20260414T201530Z
LAST-MODIFIED:20260414T201530Z
UID:44338-1777820400-1777820400@golftwinlakes.com
SUMMARY:Couples - 3 pm
DESCRIPTION:Tee Times starting @ 3 pm – not really a couples thing\, just come play 9 with your neighbors and then stop by MoonDollars for dinner and drinks
URL:https://golftwinlakes.com/event/couples-3-pm-3/2026-05-03/
CATEGORIES:Couples,Golf
END:VEVENT
BEGIN:VEVENT
DTSTART;TZID=America/Los_Angeles:20260510T150000
DTEND;TZID=America/Los_Angeles:20260510T150000
DTSTAMP:20260421T103244
CREATED:20260414T201530Z
LAST-MODIFIED:20260414T201530Z
UID:44339-1778425200-1778425200@golftwinlakes.com
SUMMARY:Couples - 3 pm
DESCRIPTION:Tee Times starting @ 3 pm – not really a couples thing\, just come play 9 with your neighbors and then stop by MoonDollars for dinner and drinks
URL:https://golftwinlakes.com/event/couples-3-pm-3/2026-05-10/
CATEGORIES:Couples,Golf
END:VEVENT
BEGIN:VEVENT
DTSTART;TZID=America/Los_Angeles:20260517T150000
DTEND;TZID=America/Los_Angeles:20260517T150000
DTSTAMP:20260421T103244
CREATED:20260414T201530Z
LAST-MODIFIED:20260414T201530Z
UID:44340-1779030000-1779030000@golftwinlakes.com
SUMMARY:Couples - 3 pm
DESCRIPTION:Tee Times starting @ 3 pm – not really a couples thing\, just come play 9 with your neighbors and then stop by MoonDollars for dinner and drinks
URL:https://golftwinlakes.com/event/couples-3-pm-3/2026-05-17/
CATEGORIES:Couples,Golf
END:VEVENT
BEGIN:VEVENT
DTSTART;TZID=America/Los_Angeles:20260524T150000
DTEND;TZID=America/Los_Angeles:20260524T150000
DTSTAMP:20260421T103244
CREATED:20260414T201530Z
LAST-MODIFIED:20260414T201530Z
UID:44341-1779634800-1779634800@golftwinlakes.com
SUMMARY:Couples - 3 pm
DESCRIPTION:Tee Times starting @ 3 pm – not really a couples thing\, just come play 9 with your neighbors and then stop by MoonDollars for dinner and drinks
URL:https://golftwinlakes.com/event/couples-3-pm-3/2026-05-24/
CATEGORIES:Couples,Golf
END:VEVENT
BEGIN:VEVENT
DTSTART;TZID=America/Los_Angeles:20260531T150000
DTEND;TZID=America/Los_Angeles:20260531T150000
DTSTAMP:20260421T103244
CREATED:20260414T201530Z
LAST-MODIFIED:20260414T201530Z
UID:44342-1780239600-1780239600@golftwinlakes.com
SUMMARY:Couples - 3 pm
DESCRIPTION:Tee Times starting @ 3 pm – not really a couples thing\, just come play 9 with your neighbors and then stop by MoonDollars for dinner and drinks
URL:https://golftwinlakes.com/event/couples-3-pm-3/2026-05-31/
CATEGORIES:Couples,Golf
END:VEVENT
END:VCALENDAR