BEGIN:VCALENDAR
VERSION:2.0
PRODID:-//Twin Lakes Village Golf Course - ECPv6.15.20//NONSGML v1.0//EN
CALSCALE:GREGORIAN
METHOD:PUBLISH
X-WR-CALNAME:Twin Lakes Village Golf Course
X-ORIGINAL-URL:https://golftwinlakes.com
X-WR-CALDESC:Events for Twin Lakes Village Golf Course
REFRESH-INTERVAL;VALUE=DURATION:PT1H
X-Robots-Tag:noindex
X-PUBLISHED-TTL:PT1H
BEGIN:VTIMEZONE
TZID:America/Los_Angeles
BEGIN:DAYLIGHT
TZOFFSETFROM:-0800
TZOFFSETTO:-0700
TZNAME:PDT
DTSTART:20250309T100000
END:DAYLIGHT
BEGIN:STANDARD
TZOFFSETFROM:-0700
TZOFFSETTO:-0800
TZNAME:PST
DTSTART:20251102T090000
END:STANDARD
BEGIN:DAYLIGHT
TZOFFSETFROM:-0800
TZOFFSETTO:-0700
TZNAME:PDT
DTSTART:20260308T100000
END:DAYLIGHT
BEGIN:STANDARD
TZOFFSETFROM:-0700
TZOFFSETTO:-0800
TZNAME:PST
DTSTART:20261101T090000
END:STANDARD
BEGIN:DAYLIGHT
TZOFFSETFROM:-0800
TZOFFSETTO:-0700
TZNAME:PDT
DTSTART:20270314T100000
END:DAYLIGHT
BEGIN:STANDARD
TZOFFSETFROM:-0700
TZOFFSETTO:-0800
TZNAME:PST
DTSTART:20271107T090000
END:STANDARD
END:VTIMEZONE
BEGIN:VEVENT
DTSTART;TZID=America/Los_Angeles:20260507T090000
DTEND;TZID=America/Los_Angeles:20260507T090000
DTSTAMP:20260421T104009
CREATED:20260414T195207Z
LAST-MODIFIED:20260414T195207Z
UID:44304-1778144400-1778144400@golftwinlakes.com
SUMMARY:9 Hole Women - Front 9
DESCRIPTION:Shotgun Start on the Front 9
URL:https://golftwinlakes.com/event/9-hole-women-front-9/2026-05-07/
CATEGORIES:Golf,Women's 9
END:VEVENT
BEGIN:VEVENT
DTSTART;TZID=America/Los_Angeles:20260521T090000
DTEND;TZID=America/Los_Angeles:20260521T090000
DTSTAMP:20260421T104009
CREATED:20260414T195207Z
LAST-MODIFIED:20260414T195207Z
UID:44305-1779354000-1779354000@golftwinlakes.com
SUMMARY:9 Hole Women - Front 9
DESCRIPTION:Shotgun Start on the Front 9
URL:https://golftwinlakes.com/event/9-hole-women-front-9/2026-05-21/
CATEGORIES:Golf,Women's 9
END:VEVENT
END:VCALENDAR